BEGIN:VCALENDAR
VERSION:2.0
PRODID:-//Tukios.com/
BEGIN:VEVENT
UID:80735487-6ec9-4bdf-86b4-1cd4f753125b@www.fordwulfbrunschapel.com
DTSTAMP:20260425T213433Z
DTSTART:20260428T180000Z
DTEND:20260429T000000Z
SUMMARY:Visitation
DESCRIPTION:
URL:https://www.fordwulfbrunschapel.com/obituaries/herbert-shreffler
LOCATION:Ford-Wulf-Bruns Chapel 2405 Woodland Ave  Coffeyville KS 67337
GEO:37.0503208;-95.6532798
END:VEVENT
END:VCALENDAR