BEGIN:VCALENDAR
VERSION:2.0
PRODID:-//Tukios.com/
BEGIN:VEVENT
UID:5292f2f4-8e26-4de0-b927-7c24140da851@www.fordwulfbrunschapel.com
DTSTAMP:20260425T213758Z
DTSTART:20260429T150000Z
DTEND:20260429T160000Z
SUMMARY:Funeral Service
DESCRIPTION:
URL:https://www.fordwulfbrunschapel.com/obituaries/herbert-shreffler
LOCATION:Bible Holiness Church 616 North 13th Street  Independence KS 
	67301
GEO:37.2296593;-95.7145318
END:VEVENT
END:VCALENDAR